BEGIN:VCALENDAR
VERSION:2.0
PRODID:-//hacksw/handcal//NONSGML v1.0//EN
BEGIN:VEVENT
DTSTART:20250621T120000Z
DTEND:20250621T220000Z
LOCATION:Campus HEC \n1, Rue de la Libération \n78350 JOUY-EN-JOSAS
ORGANIZER;CN=Deepak Rajput - LE 10 DAY - retrouvailles sur le campus HEC:MAILTO:
SUMMARY:LE 10 DAY -  Le 21 juin 2025, les diplômés en 5 font leur grand retour à HEC !
DESCRIPTION:Chères Promotions 1955, 1965, 1975, 1985, 1995, 2005 et 2015, 🎓Nous avons le plaisir de vous convier à « LE 10 DAY » - une grande journée de retrouvailles sur le Campus HEC pour toutes les promotions ...
URL:https://www.hecalumni.fr/fr/group/le-10-day-retrouvailles-sur-le-campus-hec/3054/calendar/le-10-day-le-21-juin-2025-les-diplomes-en-5-font-leur-grand-retour-a-hec/2025/06/21/12337
BEGIN:VALARM
TRIGGER:-P0DT1H0M0S
ACTION:DISPLAY
END:VALARM
END:VEVENT
END:VCALENDAR