BEGIN:VCALENDAR
VERSION:2.0
PRODID:-//hacksw/handcal//NONSGML v1.0//EN
BEGIN:VEVENT
DTSTART:20250312T163000Z
DTEND:20250312T183000Z
LOCATION:
ORGANIZER;CN=Isabelle Dion - SANTE - HEALTH:MAILTO:isabellecdion@orange.fr
SUMMARY:DERNIERS TRAITEMENTS ANTI-ALZHEIMER : POUVONS-NOUS ENFIN SOIGNER LES MALADES ?
DESCRIPTION:\nLa Fondation Alzheimer organise mercredi 12 mars 2025, de 17h30 à 19h30, dans le cadre de la Semaine du Cerveau, une conférence en ligne sur le thème DERNIERS TRAITEMENTS ANTI-ALZHEIMER :...
URL:https://www.hecalumni.fr/fr/group/sante-health/187/calendar/derniers-traitements-anti-alzheimer-pouvons-nous-enfin-soigner-les-malades/2025/03/12/12321
BEGIN:VALARM
TRIGGER:-P0DT1H0M0S
ACTION:DISPLAY
END:VALARM
END:VEVENT
END:VCALENDAR