BEGIN:VCALENDAR
VERSION:2.0
PRODID:-//hacksw/handcal//NONSGML v1.0//EN
BEGIN:VEVENT
DTSTART:20250310T120000Z
DTEND:20250310T130000Z
LOCATION:Institut des Neurosciences Paris-Saclay (NeuroPSI) \nBâtiment 151 Campus CEA - Route de la Rotonde \n91400 SACLAY
ORGANIZER;CN=Isabelle Dion - SANTE - HEALTH:MAILTO:isabellecdion@orange.fr
SUMMARY:COMMENT NOS CERVEAUX INSPIRENT NOS ROBOTS
DESCRIPTION:"Des prothèses contrôlées par la pensée, des tétraplégiques qui marchent avec un exosquelette, l’alliance des neurosciences avec la robotique donne un grand espoir aux patients, mais soulève aussi de ...
URL:https://www.hecalumni.fr/fr/group/sante-health/187/calendar/comment-nos-cerveaux-inspirent-nos-robots/2025/03/10/12314
BEGIN:VALARM
TRIGGER:-P0DT1H0M0S
ACTION:DISPLAY
END:VALARM
END:VEVENT
END:VCALENDAR