BEGIN:VCALENDAR
VERSION:2.0
PRODID:-//hacksw/handcal//NONSGML v1.0//EN
BEGIN:VEVENT
DTSTART:20250319T174500Z
DTEND:20250319T203000Z
LOCATION:HEC Alumni  \n9, Avenue Franklin Delano Roosevelt \n75008 PARIS
ORGANIZER;CN=Eric Viallatoux - Hub Distribution Immobilier Service - Retail, Real Estate and Service Hub:MAILTO:eric.viallatoux@hecalumni.fr
SUMMARY:Franck Poncet, DG de Biocoop : redresser l’enseigne leader du Bio - mercredi 19 mars
DESCRIPTION:Franck Poncet, DG de Biocoop\n « Redresser l’enseigne leader du Bio »Mercredi 19 mars, 18H45 à l’Association HEC Alumni Le Club HEC Alumni Distribution vous invite à une soirée autour de Franck...
URL:https://www.hecalumni.fr/fr/group/hub-distribution-immobilier-service-retail-real-estate-and-service-hub/385/calendar/franck-poncet-dg-de-biocoop-redresser-l-enseigne-leader-du-bio-mercredi-19-mars/2025/03/19/12295
BEGIN:VALARM
TRIGGER:-P0DT1H0M0S
ACTION:DISPLAY
END:VALARM
END:VEVENT
END:VCALENDAR