BEGIN:VCALENDAR
VERSION:2.0
PRODID:-//hacksw/handcal//NONSGML v1.0//EN
BEGIN:VEVENT
DTSTART:20250311T180000Z
DTEND:20250311T210000Z
LOCATION:Maremagnum \n5, Moll d'Espanya \n08039 BARCELONA
ORGANIZER;CN=Yasmine Abdelaziz - HEC Alumni Spain - Barcelona chapter:MAILTO:yasmine.m.abdelaziz@gmail.com
SUMMARY:HEC Paris BCN Chapter - Afterwork 11.03 (FREE with mandatory registration)
DESCRIPTION:Dear Barcelona HEC Paris Alumni community,We are very pleased to invite you to an upcoming HEC Alumni event hosted with HEC Paris Executive Education representatives on: March 11th, 19h @...
URL:https://www.hecalumni.fr/fr/group/hec-alumni-spain-barcelona-chapter/201/calendar/hec-paris-bcn-chapter-afterwork-11-03-free-with-mandatory-registration/2025/03/11/12242
BEGIN:VALARM
TRIGGER:-P0DT1H0M0S
ACTION:DISPLAY
END:VALARM
END:VEVENT
END:VCALENDAR