BEGIN:VCALENDAR
VERSION:2.0
PRODID:-//hacksw/handcal//NONSGML v1.0//EN
BEGIN:VEVENT
DTSTART:20250225T174500Z
DTEND:20250225T203000Z
LOCATION:HEC Alumni \n9, Avenue Franklin Delano Roosevelt \n75008 PARIS
ORGANIZER;CN=Philippe Musialek - Immobilier et Urbanisme - Real Estate and Urban Planning:MAILTO:philippe.musialek@me.com
SUMMARY:Etude du Consortium des Bureaux en France ou Que faire des bureaux vides ?
DESCRIPTION:HEC Immobilier Présentation de l'Etude du Consortium des Bureaux en France mardi 25 février 2025 à 18h45au siège de l'AssociationEn ligne et en présentiel \n"2 millions de mètres carrés de bureaux "en...
URL:https://www.hecalumni.fr/fr/group/immobilier-et-urbanisme-real-estate-and-urban-planning/179/calendar/etude-du-consortium-des-bureaux-en-france-ou-que-faire-des-bureaux-vides/2025/02/25/12193
BEGIN:VALARM
TRIGGER:-P0DT1H0M0S
ACTION:DISPLAY
END:VALARM
END:VEVENT
END:VCALENDAR