BEGIN:VCALENDAR
VERSION:2.0
PRODID:-//hacksw/handcal//NONSGML v1.0//EN
BEGIN:VEVENT
DTSTART:20251120T110000Z
DTEND:20251120T200000Z
LOCATION:Bhoutan
ORGANIZER;CN=Christian Rouy - Club HEC Détente:MAILTO:rouy.christian@orange.fr
SUMMARY:Club HEC Détente : Voyage au Bhoutan
DESCRIPTION:Voyage au BHOUTAN du 20 novembre au 6 décembre 2025                                                                                                                           Chères amies, chers...
URL:https://www.hecalumni.fr/fr/group/club-hec-detente/163/calendar/club-hec-detente-voyage-au-bhoutan/2025/11/20/12189
BEGIN:VALARM
TRIGGER:-P0DT1H0M0S
ACTION:DISPLAY
END:VALARM
END:VEVENT
END:VCALENDAR