BEGIN:VCALENDAR
VERSION:2.0
PRODID:-//hacksw/handcal//NONSGML v1.0//EN
BEGIN:VEVENT
DTSTART:20250227T180000Z
DTEND:20250227T193000Z
LOCATION:HEC Alumni \n9, Avenue Franklin Delano Roosevelt \n75008 PARIS
ORGANIZER;CN=Marc Kieken - Generation Change:MAILTO:marc.kieken@gmail.com
SUMMARY:Conférence: Assurance & Cybersécurité: comment prévenir et assurer le risque
DESCRIPTION:\n                                                                                          \nConférence "Generation Change" en coopération avec le "Club Risques & Assurances"\nAssurance &...
URL:https://www.hecalumni.fr/fr/group/generation-change/475/calendar/conference-assurance-cybersecurite-comment-prevenir-et-assurer-le-risque/2025/02/27/12178
BEGIN:VALARM
TRIGGER:-P0DT1H0M0S
ACTION:DISPLAY
END:VALARM
END:VEVENT
END:VCALENDAR