BEGIN:VCALENDAR
VERSION:2.0
PRODID:-//hacksw/handcal//NONSGML v1.0//EN
BEGIN:VEVENT
DTSTART:20250207T071500Z
DTEND:20250207T083000Z
LOCATION:PAVILLON VENDOME \n7, Place Vendôme \n75001 PARIS
ORGANIZER;CN=Sophie Bonn-Cleret:MAILTO:sophie.bonn-cleret@hecalumni.fr
SUMMARY:Matin HEC avec Marie-Anne Barbat-Layani Présidente de l’Autorité des marchés financiers
DESCRIPTION:Créée en août 2003, l’Autorité des marchés financiers (AMF) est une autorité publique indépendante chargée d’assurer la surveillance des marchés financiers, la protection et l’information des...
URL:https://www.hecalumni.fr/fr/event/matin-hec-avec-marie-anne-barbat-layani-presidente-de-l-autorite-des-marches-financiers/2025/02/07/12083
BEGIN:VALARM
TRIGGER:-P0DT1H0M0S
ACTION:DISPLAY
END:VALARM
END:VEVENT
END:VCALENDAR