BEGIN:VCALENDAR
VERSION:2.0
PRODID:-//hacksw/handcal//NONSGML v1.0//EN
BEGIN:VEVENT
DTSTART:20250520T070000Z
DTEND:20250522T160000Z
LOCATION:Paris Expo Porte de Versailles  \n1, Place de la Porte de Versailles \n75015 PARIS
ORGANIZER;CN=Isabelle Dion - HUB SANTE - HEALTH HUB:MAILTO:isabellecdion@orange.fr
SUMMARY:SANTEXPO 2025 - SE TRANSFORMER, INNOVER EN SANTE AU CŒUR DE NOS VALEURS
DESCRIPTION:A vos agendas !SANTEXPO, l'écosystème référent de la santé et du médico-social de la Fédération Hospitalière de France,  se tiendra à Paris Expo - Porte de Versailles du mardi 20 au jeudi 22 mai 2025,...
URL:https://www.hecalumni.fr/fr/group/hub-sante-health-hub/393/calendar/santexpo-2025-se-transformer-innover-en-sante-au-coeur-de-nos-valeurs/2025/05/20/12037
BEGIN:VALARM
TRIGGER:-P0DT1H0M0S
ACTION:DISPLAY
END:VALARM
END:VEVENT
END:VCALENDAR