BEGIN:VCALENDAR
VERSION:2.0
PRODID:-//hacksw/handcal//NONSGML v1.0//EN
BEGIN:VEVENT
DTSTART:20260131T100000Z
DTEND:20260131T113000Z
LOCATION:Brussels Expo (Palais 3 & 4) \n1, Place de Belgique \n1020 BRUXELLES
ORGANIZER;CN=Joël Amar - Belgium:MAILTO:joel.amar@sen-so.com
SUMMARY:BRAFA 2026 - Exclusive guided tours for HEC Alumni
DESCRIPTION:After the strong success of last year's event, we are delighted to invite you to an exclusive guided tour of the famous BRAFA Art Fair on January 31 from 11:00 to 12:30.We made a special arrangement...
URL:https://www.hecalumni.fr/fr/group/belgium/97/calendar/brafa-2026-exclusive-guided-tours-for-hec-alumni/2026/01/31/12024
BEGIN:VALARM
TRIGGER:-P0DT1H0M0S
ACTION:DISPLAY
END:VALARM
END:VEVENT
END:VCALENDAR