BEGIN:VCALENDAR
VERSION:2.0
PRODID:-//hacksw/handcal//NONSGML v1.0//EN
BEGIN:VEVENT
DTSTART:20241210T163000Z
DTEND:20241210T183000Z
LOCATION:Institut Français - Tøyen Factory
ORGANIZER;CN=Christian Gaussen - Norway:MAILTO:christian_gaussen@yahoo.fr
SUMMARY:Year-end event organised by France Alumni - Institut Français de Norvège
DESCRIPTION:Dear alumni,Please get in touch at hec.norway@gmail.com if interested.\nOur friends at L'Institut Français invite us to an end-of-year gathering at their nice temporary facilities at Tøyen. The event ...
URL:https://www.hecalumni.fr/fr/group/norway/279/calendar/year-end-event-organised-by-france-alumni-institut-francais-de-norvege/2024/12/10/11937
BEGIN:VALARM
TRIGGER:-P0DT1H0M0S
ACTION:DISPLAY
END:VALARM
END:VEVENT
END:VCALENDAR