BEGIN:VCALENDAR
VERSION:2.0
PRODID:-//hacksw/handcal//NONSGML v1.0//EN
BEGIN:VEVENT
DTSTART:20241218T173000Z
DTEND:20241218T203000Z
LOCATION:ANNULÉ
ORGANIZER;CN=Chloé Carli - Risques & Assurances - Risk & Insurance:MAILTO:chloecarli@hotmail.fr
SUMMARY:ANNULÉ !! Jouez l'atout Senior ! Regards croisés entre un assureur, une fondation et une coach !! ANNULÉ
DESCRIPTION:Nous sommes au regret de vous informer que cette rencontre a été annuléeNous procèderons au remboursement de tous les participants cette semaine.\nLe Club Risques et Assurances a le plaisir de vous...
URL:https://www.hecalumni.fr/fr/group/risques-assurances-risk-insurance/165/calendar/annule-jouez-l-atout-senior-regards-croises-entre-un-assureur-une-fondation-et-une-coach-annule/2024/12/18/11901
BEGIN:VALARM
TRIGGER:-P0DT1H0M0S
ACTION:DISPLAY
END:VALARM
END:VEVENT
END:VCALENDAR