BEGIN:VCALENDAR
VERSION:2.0
PRODID:-//hacksw/handcal//NONSGML v1.0//EN
BEGIN:VEVENT
DTSTART:20241125T174500Z
DTEND:20241125T203000Z
LOCATION:HEC Alumni  \n9 avenue F.D. Roosevelt \n75008 Paris
ORGANIZER;CN=Jean-Daniel Pick - Hub Distribution Immobilier Service - Retail, Real Estate and Service Hub:MAILTO:jean-daniel@jdpick.com
SUMMARY:Cécile Guillou, CEO de Picard  « Poursuivre le développement de l’enseigne alimentaire préférée des Français »
DESCRIPTION:Cécile Guillou, CEO de Picard\n « Poursuivre le développement de l’enseigne alimentaire préférée des Français »Lundi 25 novembre, 18H45 à l’Association HEC Alumni \nLe Hub HEC Alumni Distribution vous...
URL:https://www.hecalumni.fr/fr/group/hub-distribution-immobilier-service-retail-real-estate-and-service-hub/385/calendar/cecile-guillou-ceo-de-picard-poursuivre-le-developpement-de-l-enseigne-alimentaire-preferee-des-francais/2024/11/25/11831
BEGIN:VALARM
TRIGGER:-P0DT1H0M0S
ACTION:DISPLAY
END:VALARM
END:VEVENT
END:VCALENDAR