BEGIN:VCALENDAR
VERSION:2.0
PRODID:-//hacksw/handcal//NONSGML v1.0//EN
BEGIN:VEVENT
DTSTART:20241112T173000Z
DTEND:20241112T213000Z
LOCATION:HOTEL MELIA VENDOME \n8 rue Cambon \n75001 Paris
ORGANIZER;CN=Moulay Rachid Bourazza - Développement International - International Development:MAILTO:mrbourazza@gmail.com
SUMMARY:Soirée Cocktail Pays d’Europe de l’Est - Grand RV Afterwork HEC
DESCRIPTION:BIENVENUE ! L’International, la croissance, l’innovation vous intéressent, Rejoignez-nous, gardez le contact !    Soirée Cocktail Pays d’Europe de l’Est Grand RV Afterwork HEC – Soirée événement  Le...
URL:https://www.hecalumni.fr/fr/group/developpement-international-international-development/217/calendar/soiree-cocktail-pays-d-europe-de-l-est-grand-rv-afterwork-hec/2024/11/12/11823
BEGIN:VALARM
TRIGGER:-P0DT1H0M0S
ACTION:DISPLAY
END:VALARM
END:VEVENT
END:VCALENDAR