BEGIN:VCALENDAR
VERSION:2.0
PRODID:-//hacksw/handcal//NONSGML v1.0//EN
BEGIN:VEVENT
DTSTART:20241107T150000Z
DTEND:20241107T190000Z
LOCATION:Amal’s Café, Capital Club, DIFC \n5th Floor, Capital Club, Gate Village, Building 3, Dubai International Finance Centre (DIFC)
ORGANIZER;CN=Thandiwe Mkhetshane - HEC in the UAE:MAILTO:thandiwe.mkhetshane@hecalumni.fr
SUMMARY:Exclusive Event with the Dean of HEC Paris
DESCRIPTION:Following our save the date, we’re excited to confirm that Eloïc Peyrache, Dean of HEC Paris, will be visiting the UAE for a special gathering with our community.\nDate: Thursday, 7 November 2024Time:...
URL:https://www.hecalumni.fr/fr/group/hec-in-the-uae/2663/calendar/exclusive-event-with-the-dean-of-hec-paris/2024/11/07/11814
BEGIN:VALARM
TRIGGER:-P0DT1H0M0S
ACTION:DISPLAY
END:VALARM
END:VEVENT
END:VCALENDAR