BEGIN:VCALENDAR
VERSION:2.0
PRODID:-//hacksw/handcal//NONSGML v1.0//EN
BEGIN:VEVENT
DTSTART:20241129T071500Z
DTEND:20241129T083000Z
LOCATION:PAVILLON VENDOME \n7, Place Vendôme \n75001 PARIS
ORGANIZER;CN=Sophie Bonn-Cleret:MAILTO:sophie.bonn-cleret@hecalumni.fr
SUMMARY:MATIN HEC (exclusivement en anglais) AVEC PAUL HUDSON - CEO - SANOFI
DESCRIPTION:Le Matin HEC avec Paul Hudson se tiendra exclusivement en anglais.\nPaul Hudson est titulaire d'un diplôme en économie de l'Université métropolitaine de Manchester au Royaume-Uni et, en juillet 2018, ...
URL:https://www.hecalumni.fr/fr/event/matin-hec-exclusivement-en-anglais-avec-paul-hudson-ceo-sanofi/2024/11/29/11798
BEGIN:VALARM
TRIGGER:-P0DT1H0M0S
ACTION:DISPLAY
END:VALARM
END:VEVENT
END:VCALENDAR