BEGIN:VCALENDAR
VERSION:2.0
PRODID:-//hacksw/handcal//NONSGML v1.0//EN
BEGIN:VEVENT
DTSTART:20241106T160000Z
DTEND:20241106T190000Z
LOCATION:Salon EquipHotel - la Grande Scène, Hall 7.3
ORGANIZER;CN=Arnica Massé - Tourisme - Tourism:MAILTO:arnicam@gmail.com
SUMMARY:Out of the box : l'hotellerie ou l'art de recevoir et de se réinventer....
DESCRIPTION:Le club Tourisme et Management HEC, en collaboration avec le Club Travel, Food & Hospitality ESCP et ESSEC Travel ont le plaisir de vous inviter  à une conférence privée exceptionnelle dans le cadre...
URL:https://www.hecalumni.fr/fr/group/tourisme-tourism/191/calendar/out-of-the-box-l-hotellerie-ou-l-art-de-recevoir-et-de-se-reinventer/2024/11/06/11789
BEGIN:VALARM
TRIGGER:-P0DT1H0M0S
ACTION:DISPLAY
END:VALARM
END:VEVENT
END:VCALENDAR