BEGIN:VCALENDAR
VERSION:2.0
PRODID:-//hacksw/handcal//NONSGML v1.0//EN
BEGIN:VEVENT
DTSTART:20241120T183000Z
DTEND:20241120T220000Z
LOCATION:HEC UK House \n43 Parker Street \nWC2B 5PS LONDON
ORGANIZER;CN=Marie Normant - United Kingdom - UK:MAILTO:marie.normant@hecalumni.fr
SUMMARY:Entrepreneurial Showcase HEC x Imperial
DESCRIPTION:Dear all, We are delighted to invite you to a special entrepreneurial evening in partnership with Imperial and the Innovation and Entrepreneurial Institute at HEC Paris: \nEntrepreneurial Showcase HEC...
URL:https://www.hecalumni.fr/fr/group/united-kingdom-uk/109/calendar/entrepreneurial-showcase-hec-x-imperial/2024/11/20/11675
BEGIN:VALARM
TRIGGER:-P0DT1H0M0S
ACTION:DISPLAY
END:VALARM
END:VEVENT
END:VCALENDAR