BEGIN:VCALENDAR
VERSION:2.0
PRODID:-//hacksw/handcal//NONSGML v1.0//EN
BEGIN:VEVENT
DTSTART:20241018T103000Z
DTEND:20241018T123000Z
LOCATION:Le Procope \n13 rue de l'Ancienne Comédie \n75006 Paris
ORGANIZER;CN=Denis Boehringer - HEC Grande Ecole 1981:MAILTO:denis.boehringer@wanadoo.fr
SUMMARY:Promo H81 - Déjeuner annuel chez BOFINGER le 18 octobre 2024 à 12h30
DESCRIPTION:ATTENTION CHANGEMENT DE LIEU: rendez vous chez BOFINGER 5 rue de la Bastille 75004 Paris le vendredi 18 octobre 2024 à 12h30Notre sympathique rencontre annuelle de la promotion, qui aurait dû se tenir...
URL:https://www.hecalumni.fr/fr/group/hec-grande-ecole-1981/981/calendar/promo-h81-dejeuner-annuel-chez-bofinger-le-18-octobre-2024-a-12h30/2024/10/18/11648
BEGIN:VALARM
TRIGGER:-P0DT1H0M0S
ACTION:DISPLAY
END:VALARM
END:VEVENT
END:VCALENDAR