BEGIN:VCALENDAR
VERSION:2.0
PRODID:-//hacksw/handcal//NONSGML v1.0//EN
BEGIN:VEVENT
DTSTART:20241004T183000Z
DTEND:20241004T203000Z
LOCATION:Maison de la Radio et de la Musique Studio 104 \n116, Avenue du Président Kennedy \n75016 PARIS
ORGANIZER;CN=Laurence Rolland - HEC Grande Ecole 1978:MAILTO:laurence.rolland@hecalumni.fr
SUMMARY:RHAPSODIES NOIRES - le 4 octobre à 20h30
DESCRIPTION:Chères et chers camarades, \nAprès avoir remporté un grand  succès le 25 juin dernier à Saint-Eustache, le Choeur Philharmonique International, Artiste de l'UNESCO pour la paix, redonnera à l'occasion...
URL:https://www.hecalumni.fr/fr/group/hec-grande-ecole-1978/935/calendar/rhapsodies-noires-le-4-octobre-a-20h30/2024/10/04/11613
BEGIN:VALARM
TRIGGER:-P0DT1H0M0S
ACTION:DISPLAY
END:VALARM
END:VEVENT
END:VCALENDAR