BEGIN:VCALENDAR
VERSION:2.0
PRODID:-//hacksw/handcal//NONSGML v1.0//EN
BEGIN:VEVENT
DTSTART:20240919T160000Z
DTEND:20240919T180000Z
LOCATION:Hôtel de l'Industrie \n4, Place Saint-Germain des Prés \n75006 PARIS
ORGANIZER;CN=Isabelle Dion - HUB SANTE - HEALTH HUB:MAILTO:isabellecdion@orange.fr
SUMMARY:SOIREE DES HOPITAUX 2024
DESCRIPTION:\nLe Point convie les membres d'HEC Santé à LA SOIREE DES HOPITAUX 2024 : PREVENTION, LE DEFI DU SIECLE qui se tiendrajeudi 19 septembre 2024 de 18h00 à 20h10 à l'Hôtel de l'Industrie Paris 6ème.\n"Au...
URL:https://www.hecalumni.fr/fr/group/hub-sante-health-hub/393/calendar/soiree-des-hopitaux-2024/2024/09/19/11539
BEGIN:VALARM
TRIGGER:-P0DT1H0M0S
ACTION:DISPLAY
END:VALARM
END:VEVENT
END:VCALENDAR