BEGIN:VCALENDAR
VERSION:2.0
PRODID:-//hacksw/handcal//NONSGML v1.0//EN
BEGIN:VEVENT
DTSTART:20241004T170000Z
DTEND:20241004T193000Z
LOCATION:HEC ALUMNI \n9, Avenue Franklin Delano Roosevelt \n75008 PARIS
ORGANIZER;CN=Venera Nikogosian:MAILTO:
SUMMARY:Soirée de bienvenue pour les nouveaux diplômés HEC Paris_Programmes MBA et Executive Education
DESCRIPTION:\nSoirée de bienvenue pour les nouveaux diplômés HEC Paris\nVendredi 4 octobre, à partir de 19h00\nFélicitations à tous les nouveaux diplômé(e)s, MBA et Executive Education, de la promotion 2024. HEC ...
URL:https://www.hecalumni.fr/fr/event/soiree-de-bienvenue-pour-les-nouveaux-diplomes-hec-paris-programmes-mba-et-executive-education/2024/10/04/11502
BEGIN:VALARM
TRIGGER:-P0DT1H0M0S
ACTION:DISPLAY
END:VALARM
END:VEVENT
END:VCALENDAR