BEGIN:VCALENDAR
VERSION:2.0
PRODID:-//hacksw/handcal//NONSGML v1.0//EN
BEGIN:VEVENT
DTSTART:20240626T170000Z
DTEND:20240626T193000Z
LOCATION:HEC Alumni  \n9 avenue F.D. Roosevelt  \n75008 Paris
ORGANIZER;CN=Solene Delafond - Droit et Entreprise - Law & Business:MAILTO:solenedelafond@gmail.com
SUMMARY:Entretien Parcours : Lumière sur les succès et les défis des Directions Juridiques - avec Josselin Lucas, General Counsel de Geopost
DESCRIPTION:LES ENTRETIENS PARCOURSAvec la présence de Monsieur Josselin LUCASMercredi 26 juin 2024 à 19h00HEC ALUMNI9, AVENUE FRANKLIN ROOSEVELT 75008 PARISÉvénement en...
URL:https://www.hecalumni.fr/fr/group/droit-et-entreprise-law-business/173/calendar/entretien-parcours-lumiere-sur-les-succes-et-les-defis-des-directions-juridiques-avec-josselin-lucas-general-counsel-de-geopost/2024/06/26/11474
BEGIN:VALARM
TRIGGER:-P0DT1H0M0S
ACTION:DISPLAY
END:VALARM
END:VEVENT
END:VCALENDAR