BEGIN:VCALENDAR
VERSION:2.0
PRODID:-//hacksw/handcal//NONSGML v1.0//EN
BEGIN:VEVENT
DTSTART:20240506T170000Z
DTEND:20240506T183000Z
LOCATION:https://us02web.zoom.us/j/81872228119?pwd=NzBibzljTjNYT3dKRVNReEwyWnBHQT09
ORGANIZER;CN=Christian Kamayou - Développement International - International Development:MAILTO:kamayouc@hotmail.com
SUMMARY:Event "Pitch your African startup" #1 - rencontre avec 3 entrepreneurs innovants
DESCRIPTION:Bonjour,Vous êtes chaleureusement invité ce lundi 6 mai à 19h (en ligne) à la première soirée de présentation de 3 startups africaines organisée par le Club Développement International de HEC...
URL:https://www.hecalumni.fr/fr/group/developpement-international-international-development/217/calendar/event-pitch-your-african-startup-1-rencontre-avec-3-entrepreneurs-innovants/2024/05/06/11317
BEGIN:VALARM
TRIGGER:-P0DT1H0M0S
ACTION:DISPLAY
END:VALARM
END:VEVENT
END:VCALENDAR