BEGIN:VCALENDAR
VERSION:2.0
PRODID:-//hacksw/handcal//NONSGML v1.0//EN
BEGIN:VEVENT
DTSTART:20240520T160000Z
DTEND:20240520T170000Z
LOCATION:https://hec-fr.zoom.us/j/93715951131
ORGANIZER;CN=Marie Normant - United Kingdom - UK:MAILTO:marie.normant@hecalumni.fr
SUMMARY:HEC UK and US Governance Clubs - Unlocking Boardroom Excellence: Decoding the Traits Search Firms Seek in Director Recruitment
DESCRIPTION:HEC UK , HEC US and Club Gouvernance Administrateurs & Dirigeants are deligthed to invite you to their online conference: Unlocking Boardroom Excellence:Decoding the Traits Search Firms Seek in...
URL:https://www.hecalumni.fr/fr/group/united-kingdom-uk/109/calendar/hec-uk-and-us-governance-clubs-unlocking-boardroom-excellence-decoding-the-traits-search-firms-seek-in-director-recruitment/2024/05/20/11254
BEGIN:VALARM
TRIGGER:-P0DT1H0M0S
ACTION:DISPLAY
END:VALARM
END:VEVENT
END:VCALENDAR