BEGIN:VCALENDAR
VERSION:2.0
PRODID:-//hacksw/handcal//NONSGML v1.0//EN
BEGIN:VEVENT
DTSTART:20240424T063000Z
DTEND:20240424T080000Z
LOCATION:HEC Alumni \n9, Avenue Franklin Delano Roosevelt \n75008 PARIS
ORGANIZER;CN=Martin Fauvel - Droit et Entreprise - Law & Business:MAILTO:martin.fauvel@gmail.com
SUMMARY:Directions juridiques et recrutement : évolutions et actualité
DESCRIPTION:Cher Camarade,\n Le club Droit & Entreprises de l'association HEC Alumni a le plaisir de t'inviter à sa prochaine rencontre, autour d'un petit-déjeuner : Directions juridiques et recrutement :...
URL:https://www.hecalumni.fr/fr/group/droit-et-entreprise-law-business/173/calendar/directions-juridiques-et-recrutement-evolutions-et-actualite/2024/04/24/11197
BEGIN:VALARM
TRIGGER:-P0DT1H0M0S
ACTION:DISPLAY
END:VALARM
END:VEVENT
END:VCALENDAR