BEGIN:VCALENDAR
VERSION:2.0
PRODID:-//hacksw/handcal//NONSGML v1.0//EN
BEGIN:VEVENT
DTSTART:20240607T180000Z
DTEND:20240608T000000Z
LOCATION:Démesure \n43, Rue du Faubourg Montmartre \n75009 PARIS
ORGANIZER;CN=Laurence Rolland - HEC Grande Ecole 1994:MAILTO:laurence.rolland@hecalumni.fr
SUMMARY:La H.94 fête ses 30 ans - Le 7 juin 2024
DESCRIPTION:\nDéjà > 149 camarades inscrits  !\n Tu veux faire aussi partie de la fête ? \nValide ta participation dès à présent !\nCher(e) Camarade,\nÇa y est, nous avons réservé le lieu qui accueillera notre...
URL:https://www.hecalumni.fr/fr/group/hec-grande-ecole-1994/1267/calendar/la-h-94-fete-ses-30-ans-le-7-juin-2024/2024/06/07/11167
BEGIN:VALARM
TRIGGER:-P0DT1H0M0S
ACTION:DISPLAY
END:VALARM
END:VEVENT
END:VCALENDAR