BEGIN:VCALENDAR
VERSION:2.0
PRODID:-//hacksw/handcal//NONSGML v1.0//EN
BEGIN:VEVENT
DTSTART:20240307T173000Z
DTEND:20240307T203000Z
LOCATION:Association HEC \n9 avenue Franklin Roosevelt \n75008 Paris
ORGANIZER;CN=Isabelle Dion - HUB SANTE - HEALTH HUB:MAILTO:isabellecdion@orange.fr
SUMMARY:IA GENERATIVE : LE FUTUR DE LA SANTE ? - GENERATIVE AI: THE FUTURE OF HEALTH?
DESCRIPTION:\nLe Hub HEC Digital et le Hub HEC Santé, en partenariat avec G9+, ont le plaisir de vous convier à leur prochaine soirée  INTELLIGENCE ARTIFICIELLE GENERATIVE : LE FUTUR DE LA SANTE ? qui se tiendra ...
URL:https://www.hecalumni.fr/fr/group/hub-sante-health-hub/393/calendar/ia-generative-le-futur-de-la-sante-generative-ai-the-future-of-health/2024/03/07/11060
BEGIN:VALARM
TRIGGER:-P0DT1H0M0S
ACTION:DISPLAY
END:VALARM
END:VEVENT
END:VCALENDAR