BEGIN:VCALENDAR
VERSION:2.0
PRODID:-//hacksw/handcal//NONSGML v1.0//EN
BEGIN:VEVENT
DTSTART:20240412T170000Z
DTEND:20240412T200000Z
LOCATION:HEC Alumni \n9 Av. Franklin Delano Roosevelt, 75008 Paris
ORGANIZER;CN=Laurence Rolland:MAILTO:laurence.rolland@hecalumni.fr
SUMMARY:HEC Paris EMBA Multi-Cohort Spring Networking Cocktail at the HEC Alumni House
DESCRIPTION:Join us for the HEC Paris EMBA Multi-Cohort Spring Networking Cocktail at the HEC Alumni House in Paris on April 12, 2024, starting at 7 pm.\nEvent Details:- Date: April 12, 2024- Time: 7:00 pm-...
URL:https://www.hecalumni.fr/fr/event/hec-paris-emba-multi-cohort-spring-networking-cocktail-at-the-hec-alumni-house/2024/04/12/10993
BEGIN:VALARM
TRIGGER:-P0DT1H0M0S
ACTION:DISPLAY
END:VALARM
END:VEVENT
END:VCALENDAR