BEGIN:VCALENDAR
VERSION:2.0
PRODID:-//hacksw/handcal//NONSGML v1.0//EN
BEGIN:VEVENT
DTSTART:20231107T110000Z
DTEND:20231107T140000Z
LOCATION:Royal Hong Kong Yacht Club \nKellett Island, Causeway Bay, Hong Kong
ORGANIZER;CN=Ophelie Martinel - China Greater Bay Area:MAILTO:ophelie.martinel@hecalumni.fr
SUMMARY:HEC Paris Alumni Association – Hong Kong & Macau Chapter | Exceptional reception with the Dean of HEC Paris
DESCRIPTION:HEC Paris Alumni Association – Hong Kong & Macau Chapter\n Exceptional reception with the Dean of HEC Paris\nWe are honoured to greet and meet our Dean, Mr. Eloic Peyrache, in Hong Kong on Tuesday 7...
URL:https://www.hecalumni.fr/fr/group/china-greater-bay-area/137/calendar/hec-paris-alumni-association-hong-kong-macau-chapter-exceptional-reception-with-the-dean-of-hec-paris/2023/11/07/10651
BEGIN:VALARM
TRIGGER:-P0DT1H0M0S
ACTION:DISPLAY
END:VALARM
END:VEVENT
END:VCALENDAR