BEGIN:VCALENDAR
VERSION:2.0
PRODID:-//hacksw/handcal//NONSGML v1.0//EN
BEGIN:VEVENT
DTSTART:20230930T081500Z
DTEND:20230930T123000Z
LOCATION:HEC Paris \n1 Rue de la Libération  \n78350 Jouy-en-Josas
ORGANIZER;CN=Serge Cometti - HEC Grande Ecole 1986:MAILTO:serge.cometti@yahoo.fr
SUMMARY:40 ANS APRES : RETOUR SUR LE CAMPUS
DESCRIPTION:Cher(e)s ami(e)s,Retrouvons nous pour une  séquence nostalgie sur le campus samedi 30 septembre 2023.Au programme, avec l'aide de l'Ecole, de l'Association, de la Fondation et du BDE- Accueil à...
URL:https://www.hecalumni.fr/fr/group/hec-grande-ecole-1986/1069/calendar/40-ans-apres-retour-sur-le-campus/2023/09/30/10496
BEGIN:VALARM
TRIGGER:-P0DT1H0M0S
ACTION:DISPLAY
END:VALARM
END:VEVENT
END:VCALENDAR