BEGIN:VCALENDAR
VERSION:2.0
PRODID:-//hacksw/handcal//NONSGML v1.0//EN
BEGIN:VEVENT
DTSTART:20230921T161500Z
DTEND:20230921T183000Z
LOCATION:Maison des Ingénieurs Agronomes \n5 quai Voltaire \n75007  PARIS
ORGANIZER;CN=Pascal Ronfard - Agroalimentaire - Food and Beverage industry:MAILTO:pascal.ronfard@laposte.net
SUMMARY:21/09: La transition de l'amont agricole: où accélérer? où appuyer?
DESCRIPTION:Cher.e.s camarades,\nselon le World Meteorological Organisation (WMO), organisation des Nations Unies: c’est fait! Nous allons dépasser dès 2027 le seuil fatidique des +1.5 degrés C. Ce dépassement...
URL:https://www.hecalumni.fr/fr/group/agroalimentaire-food-and-beverage-industry/349/calendar/21-09-la-transition-de-l-amont-agricole-ou-accelerer-ou-appuyer/2023/09/21/10428
BEGIN:VALARM
TRIGGER:-P0DT1H0M0S
ACTION:DISPLAY
END:VALARM
END:VEVENT
END:VCALENDAR