BEGIN:VCALENDAR
VERSION:2.0
PRODID:-//hacksw/handcal//NONSGML v1.0//EN
BEGIN:VEVENT
DTSTART:20231006T103000Z
DTEND:20231006T123000Z
LOCATION:Le Procope \n13 rue de l'Ancienne Comédie \n75006 Paris
ORGANIZER;CN=Denis Boehringer - HEC Grande Ecole 1981:MAILTO:denis.boehringer@wanadoo.fr
SUMMARY:Déjeuner de promo au Procope le 6 octobre 2023 à 12h30
DESCRIPTION:Comme promis lors du sympathique déjeuner de l'année dernière, la promotion 1981 va se revoir maintenant chaque année: j'ai le plaisir de vous convier à déjeuner pour notre 42e anniversaire de promo...
URL:https://www.hecalumni.fr/fr/group/hec-grande-ecole-1981/981/calendar/dejeuner-de-promo-au-procope-le-6-octobre-2023-a-12h30/2023/10/06/10417
BEGIN:VALARM
TRIGGER:-P0DT1H0M0S
ACTION:DISPLAY
END:VALARM
END:VEVENT
END:VCALENDAR