BEGIN:VCALENDAR
VERSION:2.0
PRODID:-//hacksw/handcal//NONSGML v1.0//EN
BEGIN:VEVENT
DTSTART:20230925T095500Z
DTEND:20230925T165500Z
LOCATION:Consultate \nxx
ORGANIZER;CN=Janet O Sullivan - China Greater Bay Area:MAILTO:janet.osullivan@hecalumni.fr
SUMMARY:xxxxx
DESCRIPTION:\n
URL:https://www.hecalumni.fr/fr/group/china-greater-bay-area/137/calendar/xxxxx/2023/09/25/10393
BEGIN:VALARM
TRIGGER:-P0DT1H0M0S
ACTION:DISPLAY
END:VALARM
END:VEVENT
END:VCALENDAR