BEGIN:VCALENDAR
VERSION:2.0
PRODID:-//hacksw/handcal//NONSGML v1.0//EN
BEGIN:VEVENT
DTSTART:20230628T170000Z
DTEND:20230628T210000Z
LOCATION:La Javelle \nDe l’autre côté du boulevard, 20 Bd Poniatowski \n75012 Paris
ORGANIZER;CN=Philippe Fau - HEC Grande Ecole 1991:MAILTO:philippe_fau@yahoo.fr
SUMMARY:Apéro des vacances
DESCRIPTION:Apéro de la promo 1991, impromptu et décontracté, c’est le mercredi 28 juin a partir de 19h à la Javelle, à Paris dans le 12eme !Pas de réponse souhaitée, présence appréciée !Faites passer et venez...
URL:https://www.hecalumni.fr/fr/group/hec-grande-ecole-1991/1179/calendar/apero-des-vacances/2023/06/28/10304
BEGIN:VALARM
TRIGGER:-P0DT1H0M0S
ACTION:DISPLAY
END:VALARM
END:VEVENT
END:VCALENDAR