BEGIN:VCALENDAR
VERSION:2.0
PRODID:-//hacksw/handcal//NONSGML v1.0//EN
BEGIN:VEVENT
DTSTART:20230620T170000Z
DTEND:20230620T190000Z
LOCATION:https://us02web.zoom.us/j/86463682081?pwd=MVBYZkUwR2RzU3BHc0crT0JFRnJqUT09  ID de réunion :
ORGANIZER;CN=Laurent Delporte - Pays de la Loire:MAILTO:coach@laurentdelporte.com
SUMMARY:Visioconférence : Faut-il passer par des échecs, des moments difficiles pour être la meilleure version de soi-même ? avec Karine Arsène
DESCRIPTION:Code d'accès du webinar 864 6368 2081 - Code : 073833...
URL:https://www.hecalumni.fr/fr/group/pays-de-la-loire/71/calendar/visioconference-faut-il-passer-par-des-echecs-des-moments-difficiles-pour-etre-la-meilleure-version-de-soi-meme-avec-karine-arsene/2023/06/20/10299
BEGIN:VALARM
TRIGGER:-P0DT1H0M0S
ACTION:DISPLAY
END:VALARM
END:VEVENT
END:VCALENDAR