BEGIN:VCALENDAR
VERSION:2.0
PRODID:-//hacksw/handcal//NONSGML v1.0//EN
BEGIN:VEVENT
DTSTART:20231007T170000Z
DTEND:20231007T230000Z
LOCATION:Brasserie Rosie \n53 Rue du Faubourg Saint-Antoine \n75011 Paris
ORGANIZER;CN=Marie Delassus - HEC Grande Ecole 2013:MAILTO:delassus.marie@gmail.com
SUMMARY:2013 - 2023 : la soirée des 10 ans
DESCRIPTION:Il y a tellement de choses à célébrer que le mieux c'est de venir trinquer sur place 👯\nQuand ? Samedi 7 octobreOù ? A La Brasserie Rosie, à Paris\nVous ne connaissez pas la Brasserie Rosie ? Ouverte ...
URL:https://www.hecalumni.fr/fr/group/hec-grande-ecole-2013/2249/calendar/2013-2023-la-soiree-des-10-ans/2023/10/07/10288
BEGIN:VALARM
TRIGGER:-P0DT1H0M0S
ACTION:DISPLAY
END:VALARM
END:VEVENT
END:VCALENDAR