BEGIN:VCALENDAR
VERSION:2.0
PRODID:-//hacksw/handcal//NONSGML v1.0//EN
BEGIN:VEVENT
DTSTART:20230617T160000Z
DTEND:20230618T000000Z
LOCATION:BAMBOU \n23 rue des jeuneurs \n75002 PARIS
ORGANIZER;CN=Laurence Rolland - HEC Grande Ecole 1993:MAILTO:laurence.rolland@hecalumni.fr
SUMMARY:H93 : NOS 30 ANS - RDV LE 17 JUIN 2023
DESCRIPTION:\nPLUS QUE 24 H POUR VOUS INSCRIRE !JUSQU'A VENDREDI 16 JUIN AVANT 16H\nIL EST TEMPS DE NOUS RETROUVER !\nChers amis,  Après les annonces, les sondages, les tergiversations, les appels à l’aide, les...
URL:https://www.hecalumni.fr/fr/group/hec-grande-ecole-1993/1237/calendar/h93-nos-30-ans-rdv-le-17-juin-2023/2023/06/17/10188
BEGIN:VALARM
TRIGGER:-P0DT1H0M0S
ACTION:DISPLAY
END:VALARM
END:VEVENT
END:VCALENDAR