BEGIN:VCALENDAR
VERSION:2.0
PRODID:-//hacksw/handcal//NONSGML v1.0//EN
BEGIN:VEVENT
DTSTART:20230522T163000Z
DTEND:20230522T193000Z
LOCATION:Association HEC Alumni \n9 Avenue Franklin Roosevelt \n75008 Paris
ORGANIZER;CN=Maxime Santos - Développement International - International Development:MAILTO:maxime.santos@hecalumni.fr
SUMMARY:Energies renouvelables : par quels grands leviers, la finance durable peut-elle favoriser le déploiement rapide des projets en Afrique de l’Ouest ?
DESCRIPTION:Le Club Développement International, le Club Finance & Marchés, et l’ensemble du Hub Finance  ont l’honneur de vous convier à un cycle d’événements sur la Finance à Impact et la transition...
URL:https://www.hecalumni.fr/fr/group/developpement-international-international-development/217/calendar/energies-renouvelables-par-quels-grands-leviers-la-finance-durable-peut-elle-favoriser-le-deploiement-rapide-des-projets-en-afrique-de-l-ouest/2023/05/22/10185
BEGIN:VALARM
TRIGGER:-P0DT1H0M0S
ACTION:DISPLAY
END:VALARM
END:VEVENT
END:VCALENDAR