BEGIN:VCALENDAR
VERSION:2.0
PRODID:-//hacksw/handcal//NONSGML v1.0//EN
BEGIN:VEVENT
DTSTART:20230522T163000Z
DTEND:20230522T181500Z
LOCATION:
ORGANIZER;CN=Isabelle Dion - HUB SANTE - HEALTH HUB:MAILTO:isabellecdion@orange.fr
SUMMARY:SANTE : BIENVENUE DANS LE MONDE DES ROBOTS !
DESCRIPTION:\nA vos agendas !\nLe Hub HEC Santé est heureux de vous inviter à sa prochaine manifestationSANTE : BIENVENUE DANS LE MONDE DES ROBOTS !qui se tiendra lundi 22 mai 2023 à 18h30en 100% digital sur...
URL:https://www.hecalumni.fr/fr/group/hub-sante-health-hub/393/calendar/sante-bienvenue-dans-le-monde-des-robots/2023/05/22/10175
BEGIN:VALARM
TRIGGER:-P0DT1H0M0S
ACTION:DISPLAY
END:VALARM
END:VEVENT
END:VCALENDAR