BEGIN:VCALENDAR
VERSION:2.0
PRODID:-//hacksw/handcal//NONSGML v1.0//EN
BEGIN:VEVENT
DTSTART:20230330T100000Z
DTEND:20230423T215500Z
LOCATION:https://mercurehec.agorize.com/en
ORGANIZER;CN=Jean-Christophe Myon - Mercure HEC Awards:MAILTO:jcmyon@orange.fr
SUMMARY:VOTER POUR LES MEILLEURS ENTREPRENEURS DE L’ANNEE
DESCRIPTION:Comme vous le savez certainement, les Mercure HEC 2023 sont décernés à des entrepreneurs basés dans différentes régions du monde – 7 cette année : France, Europe, Amérique du Nord, Moyen-Orient,...
URL:https://www.hecalumni.fr/fr/group/mercure-hec-awards/373/calendar/voter-pour-les-meilleurs-entrepreneurs-de-l-annee/2023/03/30/10120
BEGIN:VALARM
TRIGGER:-P0DT1H0M0S
ACTION:DISPLAY
END:VALARM
END:VEVENT
END:VCALENDAR