BEGIN:VCALENDAR
VERSION:2.0
PRODID:-//hacksw/handcal//NONSGML v1.0//EN
BEGIN:VEVENT
DTSTART:20230410T220000Z
DTEND:20230423T215500Z
LOCATION:https://mercurehec.agorize.com/fr?_cldee=6LpOAF_0Lk4-RD96W69qN353hgT3LeiH0AblEFU4zxvrLG3ZgKcZNPiP4MZNuacM&recipientid=contact-1e59a6b8968ae811a857000d3ab6bf6e-62851d1fc5d24efab10936dec4b0553a&utm_source=ClickDimensions&utm_medium=email&utm_campaign=Email 2023 - Events&esid=e125a004-59c9-ed11-b597-0022489fd134
ORGANIZER;CN=Laurent Didier - Hub Entreprendre - Entrepreneurship Hub:MAILTO:laurent.didier22@gmail.com
SUMMARY:Mercure 2023 - Votez pour les meilleurs entrepreneurs HEC !
DESCRIPTION:\nLes prix Mercure HEC sont une vitrine mondiale de la diversité et du talent de notre écosystème entrepreneurial. Cette année, les prix sont décernés à des entrepreneurs basés dans 7 régions du monde...
URL:https://www.hecalumni.fr/fr/group/hub-entreprendre-entrepreneurship-hub/387/calendar/mercure-2023-votez-pour-les-meilleurs-entrepreneurs-hec/2023/04/11/10115
BEGIN:VALARM
TRIGGER:-P0DT1H0M0S
ACTION:DISPLAY
END:VALARM
END:VEVENT
END:VCALENDAR