BEGIN:VCALENDAR
VERSION:2.0
PRODID:-//hacksw/handcal//NONSGML v1.0//EN
BEGIN:VEVENT
DTSTART:20230630T170000Z
DTEND:20230701T000000Z
LOCATION:La Balle au Bond  \nPromenade Marceline Loridan-Ivens \n75006 Paris
ORGANIZER;CN=Maxime Santos - HEC Grande Ecole 2003:MAILTO:maxime.santos@hecalumni.fr
SUMMARY:Les 20 ans de la H.03 !
DESCRIPTION:JOUR JAUCUNE INSCRIPTION NI REGLEMENT SUR PLACE !!\nDÉJÀ 167 PARTICIPANTSTU VEUX RETROUVER DES CAMARADES ET FAIRE LA FÊTE\nVALIDE TA PARTICIPATION MAINTENANT  !\nChers amis de la promo 2003...
URL:https://www.hecalumni.fr/fr/group/hec-grande-ecole-2003/1613/calendar/les-20-ans-de-la-h-03/2023/06/30/10020
BEGIN:VALARM
TRIGGER:-P0DT1H0M0S
ACTION:DISPLAY
END:VALARM
END:VEVENT
END:VCALENDAR