BEGIN:VCALENDAR
VERSION:2.0
PRODID:-//hacksw/handcal//NONSGML v1.0//EN
BEGIN:VEVENT
DTSTART:20230321T180000Z
DTEND:20230321T193000Z
LOCATION:
ORGANIZER;CN=Isabelle Dion - HUB SANTE - HEALTH HUB:MAILTO:isabellecdion@orange.fr
SUMMARY:CARRIERES DANS LA SANTE | ETUDIANTS et JEUNES DIPLOMES GE et MS
DESCRIPTION:\nA vos agendas ! Venez à la rencontre de nos intervenants qui partageront avec vous leurs parcours riches et variés et répondront aux questions que vous vous posez sur le secteur de la...
URL:https://www.hecalumni.fr/en/group/hub-sante-health-hub/393/calendar/carrieres-dans-la-sante-etudiants-et-jeunes-diplomes-ge-et-ms/2023/03/21/9933
BEGIN:VALARM
TRIGGER:-P0DT1H0M0S
ACTION:DISPLAY
END:VALARM
END:VEVENT
END:VCALENDAR