BEGIN:VCALENDAR
VERSION:2.0
PRODID:-//hacksw/handcal//NONSGML v1.0//EN
BEGIN:VEVENT
DTSTART:20230411T160000Z
DTEND:20230419T200000Z
LOCATION:Morning Laffitte \n34, Rue Laffitte \n75009 PARIS
ORGANIZER;CN=Mathilde Bastie-Courtois:MAILTO:mathilde.courtois@hecalumni.fr
SUMMARY:HEC Life Project Festival - Let's think differently! How diversity improves the workplace.
DESCRIPTION:The HEC Life Project Festival is back in April for a 4th edition on the theme: "LET'S THINK DIFFERENTLY! How diversity improves the workplace."On the program of this major annual HEC Alumni event on...
URL:https://www.hecalumni.fr/en/event/hec-life-project-festival-let-s-think-differently-how-diversity-improves-the-workplace/2023/04/11/9901
BEGIN:VALARM
TRIGGER:-P0DT1H0M0S
ACTION:DISPLAY
END:VALARM
END:VEVENT
END:VCALENDAR