BEGIN:VCALENDAR
VERSION:2.0
PRODID:-//hacksw/handcal//NONSGML v1.0//EN
BEGIN:VEVENT
DTSTART:20230220T110000Z
DTEND:20230220T140000Z
LOCATION:French Consul
ORGANIZER;CN=Ophelie Martinel - China - Shanghai:MAILTO:ophelie.martinel@hecalumni.fr
SUMMARY:2023 Les Trois Parisiennes Gathering Shanghai
DESCRIPTION:\nMONDAY 20th February | 7 PM-10PM UTC +8\n Les Trois Parisiennes Gathering Shanghai organized by Shanghai Chapter will take place at the French Consul | Ticket limit: 40 places | Dress code: Business...
URL:https://www.hecalumni.fr/en/group/china-shanghai/291/calendar/2023-les-trois-parisiennes-gathering-shanghai/2023/02/20/9877
BEGIN:VALARM
TRIGGER:-P0DT1H0M0S
ACTION:DISPLAY
END:VALARM
END:VEVENT
END:VCALENDAR