BEGIN:VCALENDAR
VERSION:2.0
PRODID:-//hacksw/handcal//NONSGML v1.0//EN
BEGIN:VEVENT
DTSTART:20230428T180000Z
DTEND:20230501T140000Z
LOCATION:Val d'Isère \nVal d'Isère \n73150 Val d'Isère
ORGANIZER;CN=Laurence Rolland - Ski Coupe Association HEC:MAILTO:laurence.rolland@hecalumni.fr
SUMMARY:Week-End de Ski à Val d'Isère - Coupe HEC 2023
DESCRIPTION:COUPE HEC 2023du vendredi 28 avril au lundi 1er mai 2023Val d'Isère\nDepuis plus de 16 ans, la Coupe HEC regroupe, lors du weekend du 1er mai, étudiants et Alumni HEC, pour un week-end festif, sportif...
URL:https://www.hecalumni.fr/en/group/ski-coupe-association-hec/343/calendar/week-end-de-ski-a-val-d-isere-coupe-hec-2023/2023/04/28/9855
BEGIN:VALARM
TRIGGER:-P0DT1H0M0S
ACTION:DISPLAY
END:VALARM
END:VEVENT
END:VCALENDAR