BEGIN:VCALENDAR
VERSION:2.0
PRODID:-//hacksw/handcal//NONSGML v1.0//EN
BEGIN:VEVENT
DTSTART:20230914T070000Z
DTEND:20230914T140000Z
LOCATION:Auditorium Les Echos Le Parisien \n10, Boulevard de Grenelle \n75015 Paris
ORGANIZER;CN=Isabelle Dion - HUB SANTE - HEALTH HUB:MAILTO:isabellecdion@orange.fr
SUMMARY:FORUM SANTE 2025 - FACE A L'URGENCE : QUELS LEVIERS RAPIDEMENT EFFICACES ?
DESCRIPTION:\nA vos agendas !Le FORUM SANTE 2025 du Groupe Les Echos Le Parisien se tiendra jeudi 14 septembre 2023, de 9h00 à 16h00 en présentiel dans l'Auditorium Les Echos Le Parisien Paris 15ème, sur le...
URL:https://www.hecalumni.fr/en/group/hub-sante-health-hub/393/calendar/forum-sante-2025-face-a-l-urgence-quels-leviers-rapidement-efficaces/2023/09/14/9699
BEGIN:VALARM
TRIGGER:-P0DT1H0M0S
ACTION:DISPLAY
END:VALARM
END:VEVENT
END:VCALENDAR