BEGIN:VCALENDAR
VERSION:2.0
PRODID:-//hacksw/handcal//NONSGML v1.0//EN
BEGIN:VEVENT
DTSTART:20221005T163000Z
DTEND:20221005T180000Z
LOCATION:HEC Alumni \n9, Avenue Franklin Delano Roosevelt \n75008 PARIS
ORGANIZER;CN=Marine Homo:MAILTO:marine.homo@hecalumni.fr
SUMMARY:Conférence Masterclass Champion's Pitch™ par Jacques Birol - 5 octobre
DESCRIPTION:Pitcher en champion(ne), en 2022 Quelle est la différence entre un excellent pitch et un pitch qui gagne ? A quoi bon se décarcasser pour être "meilleur second" ? Pour Jacques Birol (HEC 74), tout se ...
URL:https://www.hecalumni.fr/en/event/conference-masterclass-champion-s-pitch-par-jacques-birol-5-octobre/2022/10/05/9221
BEGIN:VALARM
TRIGGER:-P0DT1H0M0S
ACTION:DISPLAY
END:VALARM
END:VEVENT
END:VCALENDAR